BEGIN:VCALENDAR
VERSION:2.0
PRODID:-//www.eventmaker.at//ICS-Exporter//de
BEGIN:VEVENT
UID:eventmaker.at39759
URL;VALUE=URI:https://eventmaker.at/oeadf/oeadf_jahrestagung_2025/
SUMMARY;ENCODING=quoted-printable:OEADF: OEADF Jahrestagung 2025
DESCRIPTION;CHARSET=UTF-8:
LOCATION;ENCODING=quoted-printable:ERSTE Campus Wien | Am Belvedere 1 | 1100 Wien | Österreich
DTSTART:20250528T220000Z
DTEND:20250531T170000Z
END:VEVENT
END:VCALENDAR
