BEGIN:VCALENDAR
VERSION:2.0
PRODID:-//www.eventmaker.at//ICS-Exporter//de
BEGIN:VEVENT
UID:eventmaker.at40011
URL;VALUE=URI:https://eventmaker.at/johann_oberauer_gmbh/kommunikation_staerkt_demokratie/
SUMMARY;ENCODING=quoted-printable:Deutsche Public Relations Gesellschaft e.V. – DPRG: Kommunikation stärkt Demokratie
DESCRIPTION;CHARSET=UTF-8:
LOCATION;ENCODING=quoted-printable:Uni Leipzig | Hörsaal 8 | Universitätsstr. 3 | 04109 Leipzig | Deutschland
DTSTART:20250409T071500Z
DTEND:20250409T180000Z
END:VEVENT
END:VCALENDAR
