BEGIN:VCALENDAR
VERSION:2.0
PRODID:-//www.eventmaker.at//ICS-Exporter//de
BEGIN:VEVENT
UID:eventmaker.at39830
URL;VALUE=URI:https://eventmaker.at/johann_oberauer_gmbh/dprg_campus/
SUMMARY;ENCODING=quoted-printable:Deutsche Public Relations Gesellschaft e.V. – DPRG: DPRG Campus
DESCRIPTION;CHARSET=UTF-8:
LOCATION;ENCODING=quoted-printable:online
DTSTART:20250219T160000Z
DTEND:20250611T163000Z
END:VEVENT
END:VCALENDAR
