BEGIN:VCALENDAR
VERSION:2.0
PRODID:-//www.eventmaker.at//ICS-Exporter//de
BEGIN:VEVENT
UID:eventmaker.at39658
URL;VALUE=URI:https://eventmaker.at/oesterreichischer_biomasse-verband/biowaerme-installateurweiterbildungsseminar_2025_-_wifi_innsbruck_-_innsbrucktirol/
SUMMARY;ENCODING=quoted-printable:Österreichischer Biomasse-Verband: Biowärme-Installateur®Weiterbildungsseminar 2025 - WIFI Innsbruck - Innsbruck/Tirol
DESCRIPTION;CHARSET=UTF-8:
LOCATION;ENCODING=quoted-printable:WIFI WKT Bildungsservice-GmbH/Innsbruck | Egger-Lienz-Straße 116 | 6020 Innsbruck | Österreich
DTSTART:20250327T080000Z
DTEND:20250327T160000Z
END:VEVENT
END:VCALENDAR
