BEGIN:VCALENDAR
VERSION:2.0
PRODID:-//www.eventmaker.at//ICS-Exporter//de
BEGIN:VEVENT
UID:eventmaker.at21864
URL;VALUE=URI:https://eventmaker.at/knauf/web21-08_fuer_profis_am_dach_steildach_-_flachdach_-_gruendach/
SUMMARY;ENCODING=quoted-printable:Knauf Gesellschaft m.b.H.: WEB21-08 Für Profis am Dach: Steildach - Flachdach - Gründach
DESCRIPTION;CHARSET=UTF-8:
LOCATION;ENCODING=quoted-printable:online
DTSTART:20210303T140000Z
DTEND:20210303T150000Z
END:VEVENT
END:VCALENDAR
