BEGIN:VCALENDAR
VERSION:2.0
PRODID:-//www.eventmaker.at//ICS-Exporter//de
BEGIN:VEVENT
UID:eventmaker.at16315
URL;VALUE=URI:https://eventmaker.at/vertikom/unternehmensberichterstattung_quo_vadis/
SUMMARY;ENCODING=quoted-printable:KSW I iwp: Unternehmensberichterstattung "Quo vadis?"
DESCRIPTION;CHARSET=UTF-8:
LOCATION;ENCODING=quoted-printable:Österreichische Kontrollbank | Strauchgasse 3 | 1010 Wien | Österreich
DTSTART:20190613T153000Z
DTEND:20190613T190000Z
END:VEVENT
END:VCALENDAR
