BEGIN:VCALENDAR
VERSION:2.0
PRODID:-//www.eventmaker.at//ICS-Exporter//de
BEGIN:VEVENT
UID:eventmaker.at10397
URL;VALUE=URI:https://eventmaker.at/megger/megger_fachtagung_oesterreich_2018/
SUMMARY;ENCODING=quoted-printable:Megger: Fachtagung Österreich 2018
DESCRIPTION;CHARSET=UTF-8:
LOCATION;ENCODING=quoted-printable:Red Bull Ring | Spielberg | Red Bull Ring Straße 1 | 8724 Spielberg | Österreich
DTSTART:20180312T080000Z
DTEND:20180315T170000Z
END:VEVENT
END:VCALENDAR
