BEGIN:VCALENDAR
VERSION:2.0
PRODID:-//www.eventmaker.at//ICS-Exporter//de
BEGIN:VEVENT
UID:eventmaker.at33266
URL;VALUE=URI:https://eventmaker.at/wec_austria/jubilaeumsempfang_-_100_jahre_weltenergierat_oesterreich_deutschland_schweiz/
SUMMARY;ENCODING=quoted-printable:World Energy Council Austria: Jubiläumsempfang - 100 Jahre Weltenergierat Österreich, Deutschland, Schweiz
DESCRIPTION;CHARSET=UTF-8:
LOCATION;ENCODING=quoted-printable:Haus der Industrie - Urban-Saal | Schwarzenbergplatz 4 | 1030 Wien | Österreich
DTSTART:20230906T151500Z
DTEND:20230906T200000Z
END:VEVENT
END:VCALENDAR
