BEGIN:VCALENDAR
VERSION:2.0
PRODID:-//www.eventmaker.at//ICS-Exporter//de
BEGIN:VEVENT
UID:eventmaker.at21833
URL;VALUE=URI:https://eventmaker.at/voesi/voesi_webinar_der_ueberblick_ueber_den_erfolgreichen_vertriebsprozess_-_30_november_2020/
SUMMARY;ENCODING=quoted-printable:VÖSI: VÖSI Webinar: Der Überblick über den erfolgreichen Vertriebsprozess - 30. November 2020
DESCRIPTION;CHARSET=UTF-8:
LOCATION;ENCODING=quoted-printable:Online Webinar
DTSTART:20201130T090000Z
DTEND:20201130T094500Z
END:VEVENT
END:VCALENDAR
