BEGIN:VCALENDAR
VERSION:2.0
PRODID:-//www.eventmaker.at//ICS-Exporter//de
BEGIN:VEVENT
UID:eventmaker.at9817
URL;VALUE=URI:https://eventmaker.at/oesterreichs_energie_akademie/blackout-praevention/
SUMMARY;ENCODING=quoted-printable:Oesterreichs Energie Akademie: Blackout-Prävention
DESCRIPTION;CHARSET=UTF-8:
LOCATION;ENCODING=quoted-printable:Hilton Garden Inn Vienna-South | Hertha-Firnberg-Strasse 5 | 1100 Wien | Österreich
DTSTART:20170531T073000Z
DTEND:20170601T143000Z
END:VEVENT
END:VCALENDAR
