BEGIN:VCALENDAR
VERSION:2.0
PRODID:-//www.eventmaker.at//ICS-Exporter//de
BEGIN:VEVENT
UID:eventmaker.at512
URL;VALUE=URI:https://eventmaker.at/oesterreichs_energie_akademie/oesterreichs_energie_kongress_2010/
SUMMARY;ENCODING=quoted-printable:Oesterreichs Energie Akademie: Oesterreichs Energie Kongress 2010
DESCRIPTION;CHARSET=UTF-8:
LOCATION;ENCODING=quoted-printable:Design-Center Linz | Europaplatz 1 | 4020 Linz | Österreich
DTSTART:20100927T100000Z
DTEND:20100928T143000Z
END:VEVENT
END:VCALENDAR
