BEGIN:VCALENDAR
VERSION:2.0
PRODID:-//www.eventmaker.at//ICS-Exporter//de
BEGIN:VEVENT
UID:eventmaker.at16542
URL;VALUE=URI:https://eventmaker.at/oesterreichs_energie_akademie/leitungsbau__juristische_fallstricke_und_loesungsansaetze_fuer_praktiker/
SUMMARY;ENCODING=quoted-printable:Oesterreichs Energie Akademie: Leitungsbau – Juristische Fallstricke und Lösungsansätze für Praktiker
DESCRIPTION;CHARSET=UTF-8:
LOCATION;ENCODING=quoted-printable:Oesterreichs Energie | Brahmsplatz 3 | 1040 Wien | Österreich | Saal "Kaplan" | 2. Stock
DTSTART:20200121T073000Z
DTEND:20200121T153000Z
END:VEVENT
END:VCALENDAR
