BEGIN:VCALENDAR
VERSION:2.0
PRODID:-//www.eventmaker.at//ICS-Exporter//de
BEGIN:VEVENT
UID:eventmaker.at13614
URL;VALUE=URI:https://eventmaker.at/oesterreichs_energie_akademie/oesterreichs_e-wirtschaft_kompakt_20-5/
SUMMARY;ENCODING=quoted-printable:Oesterreichs Energie Akademie: Österreichs E-Wirtschaft kompakt 2.0
DESCRIPTION;CHARSET=UTF-8:
LOCATION;ENCODING=quoted-printable:Oesterreichs Energie | Brahmsplatz 3 | 1040 Wien | Österreich | 2.Stock/Raum Kaplan
DTSTART:20191001T073000Z
DTEND:20191002T130000Z
END:VEVENT
END:VCALENDAR
