BEGIN:VCALENDAR
VERSION:2.0
PRODID:-//www.eventmaker.at//ICS-Exporter//de
BEGIN:VEVENT
UID:eventmaker.at26360
URL;VALUE=URI:https://eventmaker.at/oevgw/oevgw_gas_digital_teil_iii__innovative_technologien_im_gasnetzbetrieb/
SUMMARY;ENCODING=quoted-printable:ÖVGW: ÖVGW Gas digital Teil III – Innovative Technologien im Gasnetzbetrieb
DESCRIPTION;CHARSET=UTF-8:
LOCATION;ENCODING=quoted-printable:online
DTSTART:20211021T073000Z
DTEND:20211021T100000Z
END:VEVENT
END:VCALENDAR
