BEGIN:VCALENDAR
VERSION:2.0
PRODID:-//www.eventmaker.at//ICS-Exporter//de
BEGIN:VEVENT
UID:eventmaker.at4261
URL;VALUE=URI:https://eventmaker.at/fachverband_der_gas-_und_waermeversorgungsunternehmen/fernwaermetage_2015/
SUMMARY;ENCODING=quoted-printable:Fernwärmetage 2015
DESCRIPTION;CHARSET=UTF-8:
LOCATION;ENCODING=quoted-printable:Congress Casino Baden | Kaiser Franz Ring 1 | 2500 Baden bei Wien | Österreich
DTSTART:20150311T091500Z
DTEND:20150312T150000Z
END:VEVENT
END:VCALENDAR
