BEGIN:VCALENDAR
VERSION:2.0
PRODID:-//www.eventmaker.at//ICS-Exporter//de
BEGIN:VEVENT
UID:eventmaker.at37828
URL;VALUE=URI:https://eventmaker.at/apa/martech-potenziale_erkennen_und_nutzen/
SUMMARY;ENCODING=quoted-printable:APA – Austria Presse Agentur: MarTech-Potenziale erkennen und nutzen
DESCRIPTION;CHARSET=UTF-8:
LOCATION;ENCODING=quoted-printable:APA-Pressezentrum | Laimgrubengasse 10 | 1060 Wien | Österreich
DTSTART:20240918T160000Z
DTEND:20240918T173000Z
END:VEVENT
END:VCALENDAR
