BEGIN:VCALENDAR
VERSION:2.0
PRODID:-//www.eventmaker.at//ICS-Exporter//de
BEGIN:VEVENT
UID:eventmaker.at29655
URL;VALUE=URI:https://eventmaker.at/msp_events_consulting_gmbh/neues_wirtschaften_nach__der_krise__was_braucht_es_jetzt/
SUMMARY;ENCODING=quoted-printable:KSW Kammer der Steuerberater und Wirtschaftsprüfer: Neues Wirtschaften nach (?) der Krise – Was braucht es jetzt?
DESCRIPTION;CHARSET=UTF-8:
LOCATION;ENCODING=quoted-printable:Novotel Wien Hauptbahnhof | Canettistraße 6 | 1100 Wien
DTSTART:20220530T153000Z
DTEND:20220530T163000Z
END:VEVENT
END:VCALENDAR
