BEGIN:VCALENDAR
VERSION:2.0
PRODID:-//www.eventmaker.at//ICS-Exporter//de
BEGIN:VEVENT
UID:eventmaker.at4261p9618
URL;VALUE=URI:https://eventmaker.at/fachverband_der_gas-_und_waermeversorgungsunternehmen/fernwaermetage_2015/
SUMMARY;ENCODING=quoted-printable:Fernwärmetage 2015 - Galaabend: EVN Wärme GmbH lädt in den Festsaal des Congress Casino Baden ein.
DESCRIPTION;CHARSET=UTF-8:
LOCATION;ENCODING=quoted-printable:Congress Casino Baden | Kaiser Franz Ring 1 | 2500 Baden bei Wien | Österreich
DTSTART:20150311T173000Z
DTEND:20150311T220000Z
END:VEVENT
END:VCALENDAR
