BEGIN:VCALENDAR
VERSION:2.0
PRODID:-//www.eventmaker.at//ICS-Exporter//de
BEGIN:VEVENT
UID:eventmaker.at1940p5938
URL;VALUE=URI:https://eventmaker.at/oesterreichs_energie_akademie/oesterreichs_energie_kongress_2014/
SUMMARY;ENCODING=quoted-printable:Oesterreichs Energie Akademie: Oesterreichs Energie Kongress 2014 - Besichtigung des Wasserkraftwerkes Gössendorf
DESCRIPTION;CHARSET=UTF-8:
LOCATION;ENCODING=quoted-printable:Messe Congress Graz | Messeplatz 1 | 8010 Graz | Österreich
DTSTART:20140925T120000Z
DTEND:20140925T143000Z
END:VEVENT
END:VCALENDAR
