BEGIN:VCALENDAR
VERSION:2.0
PRODID:-//www.eventmaker.at//ICS-Exporter//de
BEGIN:VEVENT
UID:eventmaker.at1940p5930
URL;VALUE=URI:https://eventmaker.at/oesterreichs_energie_akademie/oesterreichs_energie_kongress_2014/
SUMMARY;ENCODING=quoted-printable:Oesterreichs Energie Akademie: Oesterreichs Energie Kongress 2014 - Abendempfang in den Kasematten am Schlossberg auf Einladung der  Energie Steiermark
DESCRIPTION;CHARSET=UTF-8:
LOCATION;ENCODING=quoted-printable:Messe Congress Graz | Messeplatz 1 | 8010 Graz | Österreich
DTSTART:20140924T153000Z
DTEND:20140924T163000Z
END:VEVENT
END:VCALENDAR
