BEGIN:VCALENDAR
VERSION:2.0
PRODID:-//www.eventmaker.at//ICS-Exporter//de
BEGIN:VEVENT
UID:eventmaker.at10397p19373
URL;VALUE=URI:https://eventmaker.at/megger/megger_fachtagung_oesterreich_2018/
SUMMARY;ENCODING=quoted-printable:Megger: Fachtagung Österreich 2018 - 3. Tag Fachtagung, Batterien & Speicher (ohne Begleitung)
DESCRIPTION;CHARSET=UTF-8:
LOCATION;ENCODING=quoted-printable:Red Bull Ring | Spielberg | Red Bull Ring Straße 1 | 8724 Spielberg | Österreich
DTSTART:20180315T080000Z
DTEND:20180315T170000Z
END:VEVENT
END:VCALENDAR
