BEGIN:VCALENDAR
VERSION:2.0
PRODID:-//www.eventmaker.at//ICS-Exporter//de
BEGIN:VEVENT
UID:eventmaker.at42652p140132
URL;VALUE=URI:https://eventmaker.at/kulturregionniederoesterreich_gmbh/fachenqueten_2026__lebensmittelhygiene/
SUMMARY;ENCODING=quoted-printable:Freiwilligencenter Niederösterreich: Fachenqueten 2026 – Lebensmittelhygiene - Wolkersdorf im Weinviertel
DESCRIPTION;CHARSET=UTF-8:
LOCATION;ENCODING=quoted-printable:Schloss Wolkersdorf Schlossplatz 28 2120 Wolkersdorf im WeinviertelAuf Google Maps anzeigen 
DTSTART:20260508T160000Z
DTEND:20260508T190000Z
END:VEVENT
END:VCALENDAR
