BEGIN:VCALENDAR
VERSION:2.0
PRODID:-//www.eventmaker.at//ICS-Exporter//de
BEGIN:VEVENT
UID:eventmaker.at42652p140131
URL;VALUE=URI:https://eventmaker.at/kulturregionniederoesterreich_gmbh/fachenqueten_2026__lebensmittelhygiene/
SUMMARY;ENCODING=quoted-printable:Freiwilligencenter Niederösterreich: Fachenqueten 2026 – Lebensmittelhygiene - Rohrau
DESCRIPTION;CHARSET=UTF-8:
LOCATION;ENCODING=quoted-printable:Haydn Geburtshaus Rohrau Obere Hauptstra&szlig;e 25 2471 RohrauAuf Google Maps anzeigen Ab 16:30 Uhr: Einladung zur kostenlosen Führung durch das Haydnhaus (ca. 1 Stunde)
DTSTART:20260520T160000Z
DTEND:20260520T190000Z
END:VEVENT
END:VCALENDAR
